Package: safe Version: 3.36.0 Command: rm -rf safe.buildbin-libdir && mkdir safe.buildbin-libdir && F:\biocbuild\bbs-3.15-bioc\R\bin\R.exe CMD INSTALL --build --library=safe.buildbin-libdir safe_3.36.0.tar.gz StartedAt: 2022-10-19 06:31:23 -0400 (Wed, 19 Oct 2022) EndedAt: 2022-10-19 06:31:50 -0400 (Wed, 19 Oct 2022) EllapsedTime: 26.1 seconds RetCode: 0 Status: OK PackageFile: safe_3.36.0.zip PackageFileSize: 709.1 KiB