git_url: https://git.bioconductor.org/packages/rprimer git_branch: RELEASE_3_15 git_last_commit: 1feeaed git_last_commit_date: 2022-04-26 12:20:09 -0400 (Tue, 26 Apr 2022) Package: rprimer Version: 1.0.0 Maintainer: Sofia Persson MaintainerEmail: sofiapersson27 at gmail.com