Package: rexposome Version: 1.17.1 Command: chmod a+r rexposome -R && D:\biocbuild\bbs-3.15-bioc\R\bin\R.exe CMD build --keep-empty-dirs --no-resave-data rexposome StartedAt: 2022-03-17 17:52:24 -0400 (Thu, 17 Mar 2022) EndedAt: 2022-03-17 17:54:35 -0400 (Thu, 17 Mar 2022) EllapsedTime: 130.7 seconds RetCode: 0 Status: OK PackageFile: rexposome_1.17.1.tar.gz PackageFileSize: 5.476 MiB