Package: rexposome Version: 1.17.1 Command: rm -rf rexposome.buildbin-libdir && mkdir rexposome.buildbin-libdir && D:\biocbuild\bbs-3.15-bioc\R\bin\R.exe CMD INSTALL --build --library=rexposome.buildbin-libdir rexposome_1.17.1.tar.gz StartedAt: 2022-03-17 21:33:23 -0400 (Thu, 17 Mar 2022) EndedAt: 2022-03-17 21:34:38 -0400 (Thu, 17 Mar 2022) EllapsedTime: 75.2 seconds RetCode: 0 Status: OK PackageFile: rexposome_1.17.1.zip PackageFileSize: 6.061 MiB