Package: rexposome Version: 1.18.2 Command: F:\biocbuild\bbs-3.15-bioc\R\bin\R.exe CMD check --no-multiarch --install=check:rexposome.install-out.txt --library=F:\biocbuild\bbs-3.15-bioc\R\library --no-vignettes --timings rexposome_1.18.2.tar.gz StartedAt: 2022-10-19 03:25:39 -0400 (Wed, 19 Oct 2022) EndedAt: 2022-10-19 03:28:51 -0400 (Wed, 19 Oct 2022) EllapsedTime: 191.4 seconds RetCode: 0 Status: WARNINGS CheckDir: rexposome.Rcheck Warnings: 5