Package: rexposome Version: 1.18.2 Command: /home/biocbuild/bbs-3.15-bioc/R/bin/R CMD build --keep-empty-dirs --no-resave-data rexposome StartedAt: 2022-10-18 17:49:12 -0400 (Tue, 18 Oct 2022) EndedAt: 2022-10-18 17:50:47 -0400 (Tue, 18 Oct 2022) EllapsedTime: 95.0 seconds RetCode: 0 Status: OK PackageFile: rexposome_1.18.2.tar.gz PackageFileSize: 7.286 MiB