Package: regsplice Version: 1.21.0 Command: D:\biocbuild\bbs-3.15-bioc\R\bin\R.exe CMD INSTALL regsplice StartedAt: 2022-03-17 16:13:53 -0400 (Thu, 17 Mar 2022) EndedAt: 2022-03-17 16:15:43 -0400 (Thu, 17 Mar 2022) EllapsedTime: 109.6 seconds RetCode: 0 Status: OK