Package: recount Version: 1.22.0 Command: rm -rf recount.buildbin-libdir && mkdir recount.buildbin-libdir && /Users/biocbuild/BBS/utils/build-universal.sh recount_1.22.0.tar.gz /Library/Frameworks/R.framework/Resources/bin/R recount.buildbin-libdir StartedAt: 2022-10-19 11:00:12 -0400 (Wed, 19 Oct 2022) EndedAt: 2022-10-19 11:02:25 -0400 (Wed, 19 Oct 2022) EllapsedTime: 133.1 seconds RetCode: 0 Status: OK PackageFile: recount_1.22.0.tgz PackageFileSize: 7.329 MiB