Package: rWikiPathways Version: 1.16.0 Command: /Library/Frameworks/R.framework/Resources/bin/R CMD build --keep-empty-dirs --no-resave-data rWikiPathways StartedAt: 2022-10-18 21:25:13 -0400 (Tue, 18 Oct 2022) EndedAt: 2022-10-18 21:25:34 -0400 (Tue, 18 Oct 2022) EllapsedTime: 21.2 seconds RetCode: 0 Status: OK PackageFile: rWikiPathways_1.16.0.tar.gz PackageFileSize: 10.33 MiB