git_url: https://git.bioconductor.org/packages/rRDP git_branch: RELEASE_3_15 git_last_commit: 2e7e530 git_last_commit_date: 2022-04-26 11:21:40 -0400 (Tue, 26 Apr 2022) Package: rRDP Version: 1.30.0 Maintainer: Michael Hahsler MaintainerEmail: mhahsler at lyle.smu.edu