Package: rGADEM Version: 2.44.1 Command: F:\biocbuild\bbs-3.15-bioc\R\bin\R.exe CMD check --no-multiarch --install=check:rGADEM.install-out.txt --library=F:\biocbuild\bbs-3.15-bioc\R\library --no-vignettes --timings rGADEM_2.44.1.tar.gz StartedAt: 2022-10-19 03:26:53 -0400 (Wed, 19 Oct 2022) EndedAt: 2022-10-19 03:31:24 -0400 (Wed, 19 Oct 2022) EllapsedTime: 271.0 seconds RetCode: 0 Status: OK CheckDir: rGADEM.Rcheck Warnings: 0