Package: rGADEM Version: 2.44.1 Command: rm -rf rGADEM.buildbin-libdir && mkdir rGADEM.buildbin-libdir && F:\biocbuild\bbs-3.15-bioc\R\bin\R.exe CMD INSTALL --build --library=rGADEM.buildbin-libdir rGADEM_2.44.1.tar.gz StartedAt: 2022-10-19 06:27:06 -0400 (Wed, 19 Oct 2022) EndedAt: 2022-10-19 06:28:00 -0400 (Wed, 19 Oct 2022) EllapsedTime: 54.2 seconds RetCode: 0 Status: OK PackageFile: rGADEM_2.44.1.zip PackageFileSize: 560.8 KiB