Package: rDGIdb Version: 1.22.0 Command: /Library/Frameworks/R.framework/Resources/bin/R CMD build --keep-empty-dirs --no-resave-data rDGIdb StartedAt: 2022-10-18 21:04:55 -0400 (Tue, 18 Oct 2022) EndedAt: 2022-10-18 21:05:30 -0400 (Tue, 18 Oct 2022) EllapsedTime: 35.8 seconds RetCode: 0 Status: OK PackageFile: rDGIdb_1.22.0.tar.gz PackageFileSize: 179.2 KiB