Package: rBiopaxParser Version: 2.35.0 Command: rm -rf rBiopaxParser.buildbin-libdir && mkdir rBiopaxParser.buildbin-libdir && D:\biocbuild\bbs-3.15-bioc\R\bin\R.exe CMD INSTALL --build --library=rBiopaxParser.buildbin-libdir rBiopaxParser_2.35.0.tar.gz StartedAt: 2022-03-17 21:31:37 -0400 (Thu, 17 Mar 2022) EndedAt: 2022-03-17 21:33:21 -0400 (Thu, 17 Mar 2022) EllapsedTime: 103.9 seconds RetCode: 0 Status: OK PackageFile: rBiopaxParser_2.35.0.zip PackageFileSize: 877.2 KiB