Package: quantro Version: 1.30.0 Command: F:\biocbuild\bbs-3.15-bioc\R\bin\R.exe CMD INSTALL quantro StartedAt: 2022-10-18 16:34:22 -0400 (Tue, 18 Oct 2022) EndedAt: 2022-10-18 16:35:23 -0400 (Tue, 18 Oct 2022) EllapsedTime: 60.9 seconds RetCode: 0 Status: OK