Package: quantro Version: 1.30.0 Command: rm -rf quantro.buildbin-libdir && mkdir quantro.buildbin-libdir && /Users/biocbuild/BBS/utils/build-universal.sh quantro_1.30.0.tar.gz /Library/Frameworks/R.framework/Resources/bin/R quantro.buildbin-libdir StartedAt: 2022-10-19 10:57:48 -0400 (Wed, 19 Oct 2022) EndedAt: 2022-10-19 10:59:20 -0400 (Wed, 19 Oct 2022) EllapsedTime: 91.6 seconds RetCode: 0 Status: OK PackageFile: quantro_1.30.0.tgz PackageFileSize: 3.076 MiB