Package: quantiseqr Version: 1.4.1 Command: /Library/Frameworks/R.framework/Resources/bin/R CMD check --install=check:quantiseqr.install-out.txt --library=/Library/Frameworks/R.framework/Resources/library --no-vignettes --timings quantiseqr_1.4.1.tar.gz StartedAt: 2022-10-19 06:37:15 -0400 (Wed, 19 Oct 2022) EndedAt: 2022-10-19 06:43:53 -0400 (Wed, 19 Oct 2022) EllapsedTime: 397.5 seconds RetCode: 0 Status: OK CheckDir: quantiseqr.Rcheck Warnings: 0