Package: profileScoreDist Version: 1.23.0 Command: D:\biocbuild\bbs-3.15-bioc\R\bin\R.exe CMD check --no-multiarch --install=check:profileScoreDist.install-out.txt --library=D:\biocbuild\bbs-3.15-bioc\R\library --no-vignettes --timings profileScoreDist_1.23.0.tar.gz StartedAt: 2022-03-17 19:55:42 -0400 (Thu, 17 Mar 2022) EndedAt: 2022-03-17 19:56:22 -0400 (Thu, 17 Mar 2022) EllapsedTime: 39.9 seconds RetCode: 0 Status: OK CheckDir: profileScoreDist.Rcheck Warnings: 0