Package: proBatch Version: 1.12.0 Command: rm -rf proBatch.buildbin-libdir && mkdir proBatch.buildbin-libdir && /Users/biocbuild/BBS/utils/build-universal.sh proBatch_1.12.0.tar.gz /Library/Frameworks/R.framework/Resources/bin/R proBatch.buildbin-libdir StartedAt: 2022-10-19 10:55:46 -0400 (Wed, 19 Oct 2022) EndedAt: 2022-10-19 10:56:47 -0400 (Wed, 19 Oct 2022) EllapsedTime: 60.6 seconds RetCode: 0 Status: OK PackageFile: proBatch_1.12.0.tgz PackageFileSize: 3.079 MiB