Package: ppiStats Version: 1.62.0 Command: F:\biocbuild\bbs-3.15-bioc\R\bin\R.exe CMD INSTALL ppiStats StartedAt: 2022-10-18 16:13:06 -0400 (Tue, 18 Oct 2022) EndedAt: 2022-10-18 16:13:41 -0400 (Tue, 18 Oct 2022) EllapsedTime: 34.3 seconds RetCode: 0 Status: OK