Package: pogos Version: 1.16.0 Command: /home/biocbuild/bbs-3.15-bioc/R/bin/R CMD build --keep-empty-dirs --no-resave-data pogos StartedAt: 2022-10-18 17:35:03 -0400 (Tue, 18 Oct 2022) EndedAt: 2022-10-18 17:37:36 -0400 (Tue, 18 Oct 2022) EllapsedTime: 152.9 seconds RetCode: 0 Status: OK PackageFile: pogos_1.16.0.tar.gz PackageFileSize: 1.211 MiB