Package: podkat Version: 1.27.1 Command: chmod a+r podkat -R && D:\biocbuild\bbs-3.15-bioc\R\bin\R.exe CMD build --keep-empty-dirs --no-resave-data podkat StartedAt: 2022-03-17 17:38:36 -0400 (Thu, 17 Mar 2022) EndedAt: 2022-03-17 17:41:51 -0400 (Thu, 17 Mar 2022) EllapsedTime: 194.4 seconds RetCode: 0 Status: OK PackageFile: podkat_1.27.1.tar.gz PackageFileSize: 1018 KiB