Package: podkat Version: 1.28.0 Command: /Library/Frameworks/R.framework/Resources/bin/R CMD build --keep-empty-dirs --no-resave-data podkat StartedAt: 2022-10-18 20:46:14 -0400 (Tue, 18 Oct 2022) EndedAt: 2022-10-18 20:51:03 -0400 (Tue, 18 Oct 2022) EllapsedTime: 289.1 seconds RetCode: 0 Status: OK PackageFile: podkat_1.28.0.tar.gz PackageFileSize: 1.065 MiB