Package: podkat Version: 1.28.0 Command: rm -rf podkat.buildbin-libdir && mkdir podkat.buildbin-libdir && /Users/biocbuild/BBS/utils/build-universal.sh podkat_1.28.0.tar.gz /Library/Frameworks/R.framework/Resources/bin/R podkat.buildbin-libdir StartedAt: 2022-10-19 10:54:49 -0400 (Wed, 19 Oct 2022) EndedAt: 2022-10-19 10:57:38 -0400 (Wed, 19 Oct 2022) EllapsedTime: 169.2 seconds RetCode: 0 Status: OK PackageFile: podkat_1.28.0.tgz PackageFileSize: 2.249 MiB