Package: planet Version: 1.4.0 Command: /Library/Frameworks/R.framework/Resources/bin/R CMD build --keep-empty-dirs --no-resave-data planet StartedAt: 2022-10-18 20:44:25 -0400 (Tue, 18 Oct 2022) EndedAt: 2022-10-18 20:45:10 -0400 (Tue, 18 Oct 2022) EllapsedTime: 45.9 seconds RetCode: 0 Status: OK PackageFile: planet_1.4.0.tar.gz PackageFileSize: 2.742 MiB