Package: planet Version: 1.4.0 Command: rm -rf planet.buildbin-libdir && mkdir planet.buildbin-libdir && /Users/biocbuild/BBS/utils/build-universal.sh planet_1.4.0.tar.gz /Library/Frameworks/R.framework/Resources/bin/R planet.buildbin-libdir StartedAt: 2022-10-19 10:54:18 -0400 (Wed, 19 Oct 2022) EndedAt: 2022-10-19 10:54:25 -0400 (Wed, 19 Oct 2022) EllapsedTime: 7.2 seconds RetCode: 0 Status: OK PackageFile: planet_1.4.0.tgz PackageFileSize: 2.774 MiB