Package: phemd Version: 1.12.0 Command: /Library/Frameworks/R.framework/Resources/bin/R CMD build --keep-empty-dirs --no-resave-data phemd StartedAt: 2022-10-18 20:39:31 -0400 (Tue, 18 Oct 2022) EndedAt: 2022-10-18 20:45:14 -0400 (Tue, 18 Oct 2022) EllapsedTime: 342.2 seconds RetCode: 0 Status: OK PackageFile: phemd_1.12.0.tar.gz PackageFileSize: 948 KiB