Package: phantasus Version: 1.16.2 Command: F:\biocbuild\bbs-3.15-bioc\R\bin\R.exe CMD check --no-multiarch --install=check:phantasus.install-out.txt --library=F:\biocbuild\bbs-3.15-bioc\R\library --no-vignettes --timings phantasus_1.16.2.tar.gz StartedAt: 2022-10-19 02:48:58 -0400 (Wed, 19 Oct 2022) EndedAt: 2022-10-19 02:54:36 -0400 (Wed, 19 Oct 2022) EllapsedTime: 337.5 seconds RetCode: 0 Status: OK CheckDir: phantasus.Rcheck Warnings: 0