Package: phantasus Version: 1.16.2 Command: rm -rf phantasus.buildbin-libdir && mkdir phantasus.buildbin-libdir && F:\biocbuild\bbs-3.15-bioc\R\bin\R.exe CMD INSTALL --build --library=phantasus.buildbin-libdir phantasus_1.16.2.tar.gz StartedAt: 2022-10-19 06:19:58 -0400 (Wed, 19 Oct 2022) EndedAt: 2022-10-19 06:20:53 -0400 (Wed, 19 Oct 2022) EllapsedTime: 55.5 seconds RetCode: 0 Status: OK PackageFile: phantasus_1.16.2.zip PackageFileSize: 8.2 MiB