Package: pgca Version: 1.20.0 Command: /home/biocbuild/bbs-3.15-bioc/R/bin/R CMD check --install=check:pgca.install-out.txt --library=/home/biocbuild/bbs-3.15-bioc/R/library --no-vignettes --timings pgca_1.20.0.tar.gz StartedAt: 2022-10-18 21:06:26 -0400 (Tue, 18 Oct 2022) EndedAt: 2022-10-18 21:06:44 -0400 (Tue, 18 Oct 2022) EllapsedTime: 17.7 seconds RetCode: 0 Status: OK CheckDir: pgca.Rcheck Warnings: 0