Package: peco Version: 1.8.0 Command: rm -rf peco.buildbin-libdir && mkdir peco.buildbin-libdir && /Users/biocbuild/BBS/utils/build-universal.sh peco_1.8.0.tar.gz /Library/Frameworks/R.framework/Resources/bin/R peco.buildbin-libdir StartedAt: 2022-10-19 10:52:59 -0400 (Wed, 19 Oct 2022) EndedAt: 2022-10-19 10:53:53 -0400 (Wed, 19 Oct 2022) EllapsedTime: 53.9 seconds RetCode: 0 Status: OK PackageFile: peco_1.8.0.tgz PackageFileSize: 1.111 MiB