Package: panp Version: 1.66.0 Command: /home/biocbuild/bbs-3.15-bioc/R/bin/R CMD build --keep-empty-dirs --no-resave-data panp StartedAt: 2022-10-18 17:27:13 -0400 (Tue, 18 Oct 2022) EndedAt: 2022-10-18 17:27:36 -0400 (Tue, 18 Oct 2022) EllapsedTime: 23.4 seconds RetCode: 0 Status: OK PackageFile: panp_1.66.0.tar.gz PackageFileSize: 511 KiB