Package: pRolocGUI Version: 2.6.0 Command: /Library/Frameworks/R.framework/Resources/bin/R CMD INSTALL pRolocGUI StartedAt: 2022-10-18 16:42:16 -0400 (Tue, 18 Oct 2022) EndedAt: 2022-10-18 16:43:17 -0400 (Tue, 18 Oct 2022) EllapsedTime: 61.6 seconds RetCode: 0 Status: OK