Package: oppar Version: 1.24.0 Command: /home/biocbuild/bbs-3.15-bioc/R/bin/R CMD build --keep-empty-dirs --no-resave-data oppar StartedAt: 2022-10-18 17:23:29 -0400 (Tue, 18 Oct 2022) EndedAt: 2022-10-18 17:25:16 -0400 (Tue, 18 Oct 2022) EllapsedTime: 107.2 seconds RetCode: 0 Status: OK PackageFile: oppar_1.24.0.tar.gz PackageFileSize: 3.39 MiB