git_url: https://git.bioconductor.org/packages/oppar git_branch: RELEASE_3_15 git_last_commit: db58829 git_last_commit_date: 2022-04-26 11:31:39 -0400 (Tue, 26 Apr 2022) Package: oppar Version: 1.24.0 Maintainer: Soroor Hediyeh zadeh MaintainerEmail: hediyehzadeh.s at wehi.edu.au