Package: openPrimeRui Version: 1.18.0 Command: /home/biocbuild/bbs-3.15-bioc/R/bin/R CMD build --keep-empty-dirs --no-resave-data openPrimeRui StartedAt: 2022-10-18 17:23:12 -0400 (Tue, 18 Oct 2022) EndedAt: 2022-10-18 17:23:50 -0400 (Tue, 18 Oct 2022) EllapsedTime: 37.5 seconds RetCode: 0 Status: OK PackageFile: openPrimeRui_1.18.0.tar.gz PackageFileSize: 3.658 MiB