Package: occugene Version: 1.55.0 Command: rm -rf occugene.buildbin-libdir && mkdir occugene.buildbin-libdir && D:\biocbuild\bbs-3.15-bioc\R\bin\R.exe CMD INSTALL --build --library=occugene.buildbin-libdir occugene_1.55.0.tar.gz StartedAt: 2022-03-17 21:25:55 -0400 (Thu, 17 Mar 2022) EndedAt: 2022-03-17 21:26:59 -0400 (Thu, 17 Mar 2022) EllapsedTime: 64.4 seconds RetCode: 0 Status: OK PackageFile: occugene_1.55.0.zip PackageFileSize: 218 KiB