Package: occugene Version: 1.56.0 Command: /home/biocbuild/bbs-3.15-bioc/R/bin/R CMD build --keep-empty-dirs --no-resave-data occugene StartedAt: 2022-10-18 17:20:47 -0400 (Tue, 18 Oct 2022) EndedAt: 2022-10-18 17:20:55 -0400 (Tue, 18 Oct 2022) EllapsedTime: 8.0 seconds RetCode: 0 Status: OK PackageFile: occugene_1.56.0.tar.gz PackageFileSize: 93.03 KiB