Package: normalize450K Version: 1.24.0 Command: rm -rf normalize450K.buildbin-libdir && mkdir normalize450K.buildbin-libdir && /Users/biocbuild/BBS/utils/build-universal.sh normalize450K_1.24.0.tar.gz /Library/Frameworks/R.framework/Resources/bin/R normalize450K.buildbin-libdir StartedAt: 2022-10-19 10:48:56 -0400 (Wed, 19 Oct 2022) EndedAt: 2022-10-19 10:49:25 -0400 (Wed, 19 Oct 2022) EllapsedTime: 29.0 seconds RetCode: 0 Status: OK PackageFile: normalize450K_1.24.0.tgz PackageFileSize: 3.131 MiB