Package: netboxr Version: 1.7.1 Command: D:\biocbuild\bbs-3.15-bioc\R\bin\R.exe CMD INSTALL netboxr StartedAt: 2022-03-17 16:06:11 -0400 (Thu, 17 Mar 2022) EndedAt: 2022-03-17 16:07:29 -0400 (Thu, 17 Mar 2022) EllapsedTime: 78.0 seconds RetCode: 0 Status: OK