Package: netboost Version: 2.4.1 Command: /Library/Frameworks/R.framework/Resources/bin/R CMD build --keep-empty-dirs --no-resave-data netboost StartedAt: 2022-10-18 20:05:52 -0400 (Tue, 18 Oct 2022) EndedAt: 2022-10-18 20:07:50 -0400 (Tue, 18 Oct 2022) EllapsedTime: 118.3 seconds RetCode: 0 Status: OK PackageFile: netboost_2.4.1.tar.gz PackageFileSize: 1.073 MiB