Package: netboost Version: 2.4.1 Command: rm -rf netboost.buildbin-libdir && mkdir netboost.buildbin-libdir && /Users/biocbuild/BBS/utils/build-universal.sh netboost_2.4.1.tar.gz /Library/Frameworks/R.framework/Resources/bin/R netboost.buildbin-libdir StartedAt: 2022-10-19 10:48:08 -0400 (Wed, 19 Oct 2022) EndedAt: 2022-10-19 10:50:04 -0400 (Wed, 19 Oct 2022) EllapsedTime: 116.2 seconds RetCode: 0 Status: OK PackageFile: netboost_2.4.1.tgz PackageFileSize: 1.065 MiB