git_url: https://git.bioconductor.org/packages/mygene git_branch: RELEASE_3_15 git_last_commit: a9dfdfc git_last_commit_date: 2022-04-26 11:22:50 -0400 (Tue, 26 Apr 2022) Package: mygene Version: 1.32.0 Maintainer: Adam Mark, Cyrus Afrasiabi, Chunlei Wu MaintainerEmail: cwu at scripps.edu