Package: muscle Version: 3.38.0 Command: rm -rf muscle.buildbin-libdir && mkdir muscle.buildbin-libdir && F:\biocbuild\bbs-3.15-bioc\R\bin\R.exe CMD INSTALL --build --library=muscle.buildbin-libdir muscle_3.38.0.tar.gz StartedAt: 2022-10-19 06:14:16 -0400 (Wed, 19 Oct 2022) EndedAt: 2022-10-19 06:15:35 -0400 (Wed, 19 Oct 2022) EllapsedTime: 78.6 seconds RetCode: 0 Status: OK PackageFile: muscle_3.38.0.zip PackageFileSize: 358.5 KiB