Package: msImpute Version: 1.6.0 Command: /Library/Frameworks/R.framework/Resources/bin/R CMD check --install=check:msImpute.install-out.txt --library=/Library/Frameworks/R.framework/Resources/library --no-vignettes --timings msImpute_1.6.0.tar.gz StartedAt: 2022-10-19 05:07:52 -0400 (Wed, 19 Oct 2022) EndedAt: 2022-10-19 05:13:24 -0400 (Wed, 19 Oct 2022) EllapsedTime: 331.8 seconds RetCode: 0 Status: OK CheckDir: msImpute.Rcheck Warnings: 0