Package: mosbi Version: 1.1.6 Command: chmod a+r mosbi -R && D:\biocbuild\bbs-3.15-bioc\R\bin\R.exe CMD build --keep-empty-dirs --no-resave-data mosbi StartedAt: 2022-03-17 17:23:55 -0400 (Thu, 17 Mar 2022) EndedAt: 2022-03-17 17:26:19 -0400 (Thu, 17 Mar 2022) EllapsedTime: 143.7 seconds RetCode: 0 Status: OK PackageFile: mosbi_1.1.6.tar.gz PackageFileSize: 1.099 MiB