Package: mosbi Version: 1.2.0 Command: rm -rf mosbi.buildbin-libdir && mkdir mosbi.buildbin-libdir && F:\biocbuild\bbs-3.15-bioc\R\bin\R.exe CMD INSTALL --build --library=mosbi.buildbin-libdir mosbi_1.2.0.tar.gz StartedAt: 2022-10-19 06:12:02 -0400 (Wed, 19 Oct 2022) EndedAt: 2022-10-19 06:14:41 -0400 (Wed, 19 Oct 2022) EllapsedTime: 158.7 seconds RetCode: 0 Status: OK PackageFile: mosbi_1.2.0.zip PackageFileSize: 1.84 MiB