Package: mnem Version: 1.12.0 Command: /Library/Frameworks/R.framework/Resources/bin/R CMD check --install=check:mnem.install-out.txt --library=/Library/Frameworks/R.framework/Resources/library --no-vignettes --timings mnem_1.12.0.tar.gz StartedAt: 2022-10-19 04:55:27 -0400 (Wed, 19 Oct 2022) EndedAt: 2022-10-19 04:59:18 -0400 (Wed, 19 Oct 2022) EllapsedTime: 230.8 seconds RetCode: 0 Status: OK CheckDir: mnem.Rcheck Warnings: 0