Package: mnem Version: 1.12.0 Command: /Library/Frameworks/R.framework/Resources/bin/R CMD build --keep-empty-dirs --no-resave-data mnem StartedAt: 2022-10-18 19:49:32 -0400 (Tue, 18 Oct 2022) EndedAt: 2022-10-18 19:51:44 -0400 (Tue, 18 Oct 2022) EllapsedTime: 132.2 seconds RetCode: 0 Status: OK PackageFile: mnem_1.12.0.tar.gz PackageFileSize: 4.386 MiB