Package: mixOmics Version: 6.20.0 Command: /Library/Frameworks/R.framework/Resources/bin/R CMD check --install=check:mixOmics.install-out.txt --library=/Library/Frameworks/R.framework/Resources/library --no-vignettes --timings mixOmics_6.20.0.tar.gz StartedAt: 2022-10-19 04:52:48 -0400 (Wed, 19 Oct 2022) EndedAt: 2022-10-19 05:01:03 -0400 (Wed, 19 Oct 2022) EllapsedTime: 495.5 seconds RetCode: 0 Status: OK CheckDir: mixOmics.Rcheck Warnings: 0